BEGIN:VCALENDAR
VERSION:2.0
PRODID:-//ChamberMaster//Event Calendar 2.0//EN
METHOD:PUBLISH
X-PUBLISHED-TTL:P3D
REFRESH-INTERVAL:P3D
CALSCALE:GREGORIAN
BEGIN:VEVENT
DTSTART:20230107T030000Z
DTEND:20230107T070000Z
X-MICROSOFT-CDO-ALLDAYEVENT:FALSE
SUMMARY:River Spell w/Grant Livingston
DESCRIPTION:https://www.riverspellmusic.com/\n\nFormed in 2022\, River Spell is a Colorado-based jam band delivering heartfelt songwriting and extended improvisation.\n\nGrant Livingston: acoustic guitar/vocals\n\nBen Maillaro: electric guitar\n\nJake DeMarco: bass\n\nDylan French: drums
X-ALT-DESC;FMTTYPE=text/html:<p>https://www.riverspellmusic.com/</p>\n\n<p>Formed in 2022\, River Spell is a Colorado-based jam band delivering heartfelt songwriting and extended improvisation.</p>\n\n<p>Grant Livingston: acoustic guitar/vocals</p>\n\n<p>Ben Maillaro: electric guitar</p>\n\n<p>Jake DeMarco: bass</p>\n\n<p>Dylan French: drums</p>\n
LOCATION:
UID:e.298.88592
SEQUENCE:3
DTSTAMP:20260423T232533Z
URL:https://members.evergreenchamber.org/events/details/river-spell-w-grant-livingston-88592
END:VEVENT

END:VCALENDAR
