BEGIN:VCALENDAR
VERSION:2.0
PRODID:-//ChamberMaster//Event Calendar 2.0//EN
METHOD:PUBLISH
X-PUBLISHED-TTL:P3D
REFRESH-INTERVAL:P3D
CALSCALE:GREGORIAN
BEGIN:VEVENT
DTSTART:20220923T170000Z
DTEND:20220923T173000Z
X-MICROSOFT-CDO-ALLDAYEVENT:FALSE
SUMMARY:Ribbon Cutting - The Grove - Women's Counseling
DESCRIPTION:Ribbon Cutting - The Grove - Women's Counseling
X-ALT-DESC;FMTTYPE=text/html:<strong>Ribbon Cutting - The Grove - Women&#39\;s Counseling&nbsp\;&nbsp\;&nbsp\;&nbsp\;&nbsp\;&nbsp\;&nbsp\;&nbsp\;</strong>
LOCATION:32135 Castle Court\, Suite 100- B Evergreen\, CO 80439
UID:e.298.88347
SEQUENCE:3
DTSTAMP:20260424T054400Z
URL:https://members.evergreenchamber.org/events/details/ribbon-cutting-the-grove-women-s-counseling-88347
END:VEVENT

END:VCALENDAR
