BEGIN:VCALENDAR
VERSION:2.0
PRODID:-//ChamberMaster//Event Calendar 2.0//EN
METHOD:PUBLISH
X-PUBLISHED-TTL:P3D
REFRESH-INTERVAL:P3D
CALSCALE:GREGORIAN
BEGIN:VEVENT
DTSTART:20221110T233000Z
DTEND:20221111T000000Z
X-MICROSOFT-CDO-ALLDAYEVENT:FALSE
SUMMARY:Ribbon Cutting - Panorama Counseling & Play Therapy\, LLC
DESCRIPTION:Ribbon Cutting - Panorama Counseling & Play Therapy\, LLC
X-ALT-DESC;FMTTYPE=text/html:Ribbon Cutting - Panorama Counseling &amp\; Play Therapy\, LLC
LOCATION:30792 Southview Drive\, Suite 205 Evergreen\, CO
UID:e.298.88484
SEQUENCE:3
DTSTAMP:20260424T143955Z
URL:https://members.evergreenchamber.org/events/details/ribbon-cutting-panorama-counseling-play-therapy-llc-88484
END:VEVENT

END:VCALENDAR
