BEGIN:VCALENDAR
VERSION:2.0
PRODID:-//ChamberMaster//Event Calendar 2.0//EN
METHOD:PUBLISH
X-PUBLISHED-TTL:P3D
REFRESH-INTERVAL:P3D
CALSCALE:GREGORIAN
BEGIN:VEVENT
DTSTART:20221110T233000Z
DTEND:20221111T000000Z
X-MICROSOFT-CDO-ALLDAYEVENT:FALSE
SUMMARY:Ribbon Cutting - Mountain Therapeutic Massage
DESCRIPTION:Ribbon Cutting - Mountain Therapeutic Massage
X-ALT-DESC;FMTTYPE=text/html:<strong>Ribbon Cutting - Mountain Therapeutic Massage</strong>
LOCATION:Mountain Therapeutic Massage 30792 Southview Drive Evergeen\, CO
UID:e.298.88339
SEQUENCE:3
DTSTAMP:20260424T143905Z
URL:https://members.evergreenchamber.org/events/details/ribbon-cutting-mountain-therapeutic-massage-88339
END:VEVENT

END:VCALENDAR
