BEGIN:VCALENDAR
VERSION:2.0
PRODID:-//ChamberMaster//Event Calendar 2.0//EN
METHOD:PUBLISH
X-PUBLISHED-TTL:P3D
REFRESH-INTERVAL:P3D
CALSCALE:GREGORIAN
BEGIN:VEVENT
DTSTART:20220916T170000Z
DTEND:20220916T173000Z
X-MICROSOFT-CDO-ALLDAYEVENT:FALSE
SUMMARY:Ribbon Cutting - Evergreen Art School
DESCRIPTION:Ribbon Cutting - Evergreen Art School
X-ALT-DESC;FMTTYPE=text/html:<strong>Ribbon Cutting - Evergreen Art School</strong>
LOCATION:Evergreen Art School 28245 Hwy 74 Evergreen\, CO 80439
UID:e.298.87905
SEQUENCE:3
DTSTAMP:20260424T060307Z
URL:https://members.evergreenchamber.org/events/details/ribbon-cutting-evergreen-art-school-87905
END:VEVENT

END:VCALENDAR
