BEGIN:VCALENDAR
VERSION:2.0
PRODID:-//ChamberMaster//Event Calendar 2.0//EN
METHOD:PUBLISH
X-PUBLISHED-TTL:P3D
REFRESH-INTERVAL:P3D
CALSCALE:GREGORIAN
BEGIN:VEVENT
DTSTART:20251114T180000Z
DTEND:20251114T183000Z
X-MICROSOFT-CDO-ALLDAYEVENT:FALSE
SUMMARY:Ribbon Cutting - EverBot
DESCRIPTION:Ribbon Cutting - EverBot
X-ALT-DESC;FMTTYPE=text/html:<strong>Ribbon Cutting - EverBot</strong>
LOCATION:Chamber of Commerce Office - Stonehouse 1524 Belford Ct. Evergreen\, CO
UID:e.298.103988
SEQUENCE:3
DTSTAMP:20260419T224550Z
URL:https://members.evergreenchamber.org/events/details/ribbon-cutting-everbot-103988
END:VEVENT

END:VCALENDAR
