BEGIN:VCALENDAR
VERSION:2.0
PRODID:-//ChamberMaster//Event Calendar 2.0//EN
METHOD:PUBLISH
X-PUBLISHED-TTL:P3D
REFRESH-INTERVAL:P3D
CALSCALE:GREGORIAN
BEGIN:VEVENT
DTSTART:20250207T183000Z
DTEND:20250207T190000Z
X-MICROSOFT-CDO-ALLDAYEVENT:FALSE
SUMMARY:Ribbon Cutting - Bhojanic Social Club at The Yellow Club
DESCRIPTION:Ribbon Cutting - Bhojanic Social Club at The Yellow House
X-ALT-DESC;FMTTYPE=text/html:Ribbon Cutting -&nbsp\;Bhojanic Social Club at The Yellow House
LOCATION:Bhojanic Social Club at the Yellow House 5120 County Rd 73 Evergreen\, CO
UID:e.298.98932
SEQUENCE:3
DTSTAMP:20260422T125123Z
URL:https://members.evergreenchamber.org/events/details/ribbon-cutting-bhojanic-social-club-at-the-yellow-club-98932
END:VEVENT

END:VCALENDAR
