BEGIN:VCALENDAR
VERSION:2.0
PRODID:-//ChamberMaster//Event Calendar 2.0//EN
METHOD:PUBLISH
X-PUBLISHED-TTL:P3D
REFRESH-INTERVAL:P3D
CALSCALE:GREGORIAN
BEGIN:VEVENT
DTSTART:20220909T190000Z
DTEND:20220909T193000Z
X-MICROSOFT-CDO-ALLDAYEVENT:FALSE
SUMMARY:Ribbon Cutting - Alpen Way Chalet
DESCRIPTION:Ribbon Cutting - Alpen Way Chalet
X-ALT-DESC;FMTTYPE=text/html:<strong>Ribbon Cutting - Alpen Way Chalet</strong>
LOCATION:Alpen Way Chalet 4980 Highway 73 Evergreen\, CO 80439
UID:e.298.87843
SEQUENCE:3
DTSTAMP:20260424T054233Z
URL:https://members.evergreenchamber.org/events/details/ribbon-cutting-alpen-way-chalet-87843
END:VEVENT

END:VCALENDAR
