BEGIN:VCALENDAR
VERSION:2.0
PRODID:-//ChamberMaster//Event Calendar 2.0//EN
METHOD:PUBLISH
X-PUBLISHED-TTL:P3D
REFRESH-INTERVAL:P3D
CALSCALE:GREGORIAN
BEGIN:VEVENT
DTSTART:20251101T180000Z
DTEND:20251101T210000Z
X-MICROSOFT-CDO-ALLDAYEVENT:FALSE
SUMMARY:ResqRanch Breeder's Cup Live HorseRacing Fall Fundraiser at Araphoe Park Race Track!
DESCRIPTION:Have you ever wanted an excuse to head out to see live horse racing right here in Colorado? Did you even know we have a local track where you can get up close and personal with magnificent Thoroughbred race horses? Well then\, now is your chance! The ResqRanch is having our WINTER HAY Fundraising party next Saturday.\n\n \n\n\n\n\nJoin us at the Bally's Arapahoe Park Horse Race Track in Aurora!\n\n\n\nWatch the Breeder's Cup\, streaming in the clubhouse\, while LIVE in-person horse racing happens just a few feet away!\n\n\n\n?EXCLUSIVE TOUR with DrQ and the Executive Director of the track!\n\n\n\nGet to be in the winner's circle for a win picture!\n\n?\n\nAll of this at just $25 per person!
X-ALT-DESC;FMTTYPE=text/html:Have you ever wanted an excuse to head out to see live horse racing right here in Colorado? Did you even know we have a local track where you can get up close and personal with magnificent Thoroughbred race horses? Well then\, now is your chance! The ResqRanch is having our WINTER HAY Fundraising party next Saturday.<br />\n&nbsp\;\n<div>\n<div>\n<div>\n<div>\n<h2 style="text-align:center"><strong>Join us at the Bally&#39\;s Arapahoe Park Horse Race Track in Aurora!<br />\n<br />\nWatch the Breeder&#39\;s Cup\, streaming in the clubhouse\, while LIVE in-person horse racing happens just a few feet away!<br />\n<br />\n?EXCLUSIVE TOUR with DrQ and the Executive Director of the track!<br />\n<br />\nGet to be in the winner&#39\;s circle for a win picture!<br />\n?<br />\nAll of this at just $25 per person!</strong></h2>\n<br />\n&nbsp\;</div>\n\n<div>\n<p style="text-align:center">&nbsp\;</p>\n</div>\n</div>\n</div>\n</div>\n\n<div>\n<div>\n<div>&nbsp\;</div>\n</div>\n</div>\n
LOCATION:Arapahoe Park Racetrack 26000 E Quincy Ave\, Aurora\, CO 80016
UID:e.298.103966
SEQUENCE:3
DTSTAMP:20260419T224935Z
URL:https://members.evergreenchamber.org/events/details/resqranch-breeder-s-cup-live-horseracing-fall-fundraiser-at-araphoe-park-race-track-103966
END:VEVENT

END:VCALENDAR
