BEGIN:VCALENDAR
VERSION:2.0
PRODID:-//ChamberMaster//Event Calendar 2.0//EN
METHOD:PUBLISH
X-PUBLISHED-TTL:P3D
REFRESH-INTERVAL:P3D
CALSCALE:GREGORIAN
BEGIN:VEVENT
DTSTART:20251016T223000Z
DTEND:20251017T000000Z
X-MICROSOFT-CDO-ALLDAYEVENT:FALSE
SUMMARY:ReqRanch Trailblazers!!
DESCRIPTION:Become a ResqRanch Trailblazer: Forge a New Path for Horses and Their People (that includes You too!)\n\n\n\nDo you feel a deep connection to horses? Are you searching for a way to turn your passion into a powerful force for good? Here in the U.S.\, thousands of horses\, including majestic wild mustangs and retired racehorses\, are in desperate need of a safe landing and a gentle\, understanding hand. The truth is\, the world needs more people who truly care for them.\n\n\n\nThat's why the ResqRanch created the ResqRanch Trailblazers.\n\n\n\nThis isn't just another riding lesson. This is a movement. The Trailblazers is a weekly community gathering for compassionate horse lovers of all ages\, dedicated to creating a better future for equines. Together\, we are embarking on a mission to dramatically increase the number of people skilled in the art and science of Positive Reinforcement (R+) training. By joining\, you become a vital part of the solution\, helping to prepare the world to welcome and care for every horse in need.\n\nFor anyone age 5 and up. Adults\, kids\, everybody can do this!\n\nKids ages 5 through 11 must have one adult with them. This adult does NOT have to pay.\n\nSign-up at https://www.resqranch.org/trailblazers-a.   Classes have started!!  Join us on September 18\, 2025 and thereafter!
X-ALT-DESC;FMTTYPE=text/html:<p>Become a ResqRanch Trailblazer: Forge a New Path for Horses and Their People (that includes You too!)<br />\n<br />\nDo you feel a deep connection to horses? Are you searching for a way to turn your passion into a powerful force for good? Here in the U.S.\, thousands of horses\, including majestic wild mustangs and retired racehorses\, are in desperate need of a safe landing and a gentle\, understanding hand. The truth is\, the world needs more people who truly care for them.<br />\n<br />\nThat&rsquo\;s why the ResqRanch created the ResqRanch Trailblazers.<br />\n<br />\nThis isn&rsquo\;t just another riding lesson. This is a movement. The Trailblazers is a weekly community gathering for compassionate horse lovers of all ages\, dedicated to creating a better future for equines. Together\, we are embarking on a mission to dramatically increase the number of people skilled in the art and science of Positive Reinforcement (R+) training. By joining\, you become a vital part of the solution\, helping to prepare the world to welcome and care for every horse in need.</p>\n\n<p>For anyone age 5 and up. Adults\, kids\, everybody can do this!</p>\n\n<p>Kids ages 5 through 11 must have one adult with them. This adult does NOT have to pay.</p>\n\n<p>Sign-up at&nbsp\;<a href="https://www.resqranch.org/trailblazers-a" rel="noopener noreferrer noopener noreferrer" style="box-sizing: border-box\; color: rgb(42\, 44\, 51)\; transition: color 0.4s\; user-select: auto\;" target="_blank">https://www.resqranch.org/trailblazers-a</a>.&nbsp\; &nbsp\;Classes have started!!&nbsp\; Join us on September 18\, 2025 and thereafter!</p>\n
LOCATION:Evergreen\, CO Address will be provided upon sign-up for the event!
UID:e.298.102359
SEQUENCE:3
DTSTAMP:20260420T014300Z
URL:https://members.evergreenchamber.org/events/details/reqranch-trailblazers-10-16-2025-102359
END:VEVENT

END:VCALENDAR
