BEGIN:VCALENDAR
VERSION:2.0
PRODID:-//ChamberMaster//Event Calendar 2.0//EN
METHOD:PUBLISH
X-PUBLISHED-TTL:P3D
REFRESH-INTERVAL:P3D
CALSCALE:GREGORIAN
BEGIN:VEVENT
DTSTART:20240914T150000Z
DTEND:20240914T200000Z
X-MICROSOFT-CDO-ALLDAYEVENT:FALSE
SUMMARY:Recycle Day 2024
DESCRIPTION:Your Rotary Club of Evergreen is hosting the annual Recycle Day In Memory of Mereth Meade once again! Check our Facebook page or our website on what we can collect this year and the fees for some items as we get closer to the event.
X-ALT-DESC;FMTTYPE=text/html:Your Rotary Club of Evergreen is hosting the annual Recycle Day In Memory of Mereth Meade once again! Check our Facebook page or our website on what we can collect this year and the fees for some items as we get closer to the event.
LOCATION:Evergreen Country Day School 1093 Swede Gulch Road\, Evergreen\, CO 80439
UID:e.298.92710
SEQUENCE:3
DTSTAMP:20260422T031525Z
URL:https://members.evergreenchamber.org/events/details/recycle-day-2024-92710
END:VEVENT

END:VCALENDAR
