BEGIN:VCALENDAR
VERSION:2.0
PRODID:-//ChamberMaster//Event Calendar 2.0//EN
METHOD:PUBLISH
X-PUBLISHED-TTL:P3D
REFRESH-INTERVAL:P3D
CALSCALE:GREGORIAN
BEGIN:VEVENT
DTSTART:20250820T160000Z
DTEND:20250820T173000Z
X-MICROSOFT-CDO-ALLDAYEVENT:FALSE
SUMMARY:Question\, Persuade\, Refer (QPR)
DESCRIPTION:Be a Lifeline for Your Loved Ones\n\nJust like CPR\, knowing how to respond in a mental health crisis can save lives. QPR (Question\, Persuade\, Refer) equips you with simple\, yet powerful skills to recognize the warning signs of suicide and offer support. Join us for this 90-minute class and learn how to be there when it matters most.\n\n\n\nQuestion\, Persuade\, Refer (QPR) Tickets\, Wed\, Aug 20\, 2025 at 10:00 AM | Eventbrite
X-ALT-DESC;FMTTYPE=text/html:<p><strong>Be a Lifeline for Your Loved Ones</strong></p>\n\n<p>Just like CPR\, knowing how to respond in a mental health crisis can save lives. QPR (Question\, Persuade\, Refer) equips you with simple\, yet powerful skills to recognize the warning signs of suicide and offer support. Join us for this 90-minute class and learn how to be there when it matters most.<br />\n<br />\n<a href="https://www.eventbrite.com/e/question-persuade-refer-qpr-tickets-1493546570999?aff=oddtdtcreator">Question\, Persuade\, Refer (QPR) Tickets\, Wed\, Aug 20\, 2025 at 10:00 AM | Eventbrite</a></p>\n
LOCATION:Virtual- Link will be provided after registration.
UID:e.298.100857
SEQUENCE:3
DTSTAMP:20260420T035256Z
URL:https://members.evergreenchamber.org/events/details/question-persuade-refer-qpr-08-20-2025-100857
END:VEVENT

END:VCALENDAR
