BEGIN:VCALENDAR
VERSION:2.0
PRODID:-//ChamberMaster//Event Calendar 2.0//EN
METHOD:PUBLISH
X-PUBLISHED-TTL:P3D
REFRESH-INTERVAL:P3D
CALSCALE:GREGORIAN
BEGIN:VEVENT
DTSTART:20260311T180000Z
DTEND:20260311T193000Z
X-MICROSOFT-CDO-ALLDAYEVENT:FALSE
SUMMARY:Question\, Persuade\, Refer (QPR)
DESCRIPTION:QPR empowers everyday people to respond to signs of distress and offer life-saving support.\n\n\nBe a Lifeline for Your Loved Ones\n\nJust like CPR\, knowing how to respond in a mental health crisis can save lives. QPR (Question\, Persuade\, Refer) equips you with simple\, yet powerful skills to recognize the warning signs of suicide and offer support. Join us for this 60-minute class and learn how to be there when it matters most.\n\n\n\nQuestion\, Persuade\, Refer (QPR) Tickets\, Wed\, Mar 11\, 2026 at 12:00 PM | Eventbrite
X-ALT-DESC;FMTTYPE=text/html:<div>QPR empowers everyday people to respond to signs of distress and offer life-saving support.</div>\n\n<div>\n<p>Be a Lifeline for Your Loved Ones</p>\n\n<p>Just like CPR\, knowing how to respond in a mental health crisis can save lives. QPR (Question\, Persuade\, Refer) equips you with simple\, yet powerful skills to recognize the warning signs of suicide and offer support. Join us for this 60-minute class and learn how to be there when it matters most.<br />\n<br />\n<a href="https://www.eventbrite.com/e/question-persuade-refer-qpr-tickets-1978027028088?aff=oddtdtcreator">Question\, Persuade\, Refer (QPR) Tickets\, Wed\, Mar 11\, 2026 at 12:00 PM | Eventbrite</a></p>\n</div>\n
LOCATION:Edgewater Civic Center 1800 North Harlan Street Edgewater\, CO 80214
UID:e.298.105542
SEQUENCE:3
DTSTAMP:20260419T190134Z
URL:https://members.evergreenchamber.org/events/details/question-persuade-refer-qpr-03-11-2026-105542
END:VEVENT

END:VCALENDAR
