BEGIN:VCALENDAR
VERSION:2.0
PRODID:-//ChamberMaster//Event Calendar 2.0//EN
METHOD:PUBLISH
X-PUBLISHED-TTL:P3D
REFRESH-INTERVAL:P3D
CALSCALE:GREGORIAN
BEGIN:VEVENT
DTSTART:20221017T210000Z
DTEND:20221017T223000Z
X-MICROSOFT-CDO-ALLDAYEVENT:FALSE
SUMMARY:Quarterly Nonprofit Meeting - October 2022
DESCRIPTION:Topic: CO Gives Day Marketing Workshop\n\nWalk Away with a Media Kit all planned for a successful fundraising day!\n\n\n\n\nGuest Speaker: Mindy Lundy of 20Degrees Media  \n\nhttps://20degreesmedia.com/\n\nPlan to bring your laptop with you.
X-ALT-DESC;FMTTYPE=text/html:<div style="color: rgb(34\, 34\, 34)\; font-family: Arial\, Helvetica\, sans-serif\; font-size: small\;">Topic:&nbsp\;CO Gives Day Marketing Workshop<br />\nWalk Away with a Media Kit all planned for a successful fundraising day!</div>\n\n<div style="color: rgb(34\, 34\, 34)\; font-family: Arial\, Helvetica\, sans-serif\; font-size: small\;">\n<div style="color: rgb(34\, 34\, 34)\; font-family: Arial\, Helvetica\, sans-serif\; font-size: small\;"><br />\nGuest Speaker: Mindy Lundy of 20Degrees&nbsp\;Media&nbsp\;&nbsp\;<br />\n<a data-saferedirecturl="https://www.google.com/url?q=https://20degreesmedia.com/&amp\;source=gmail&amp\;ust=1660066876229000&amp\;usg=AOvVaw3nDBdX_vOYU2s_HpuDO_ZT" href="https://20degreesmedia.com/" style="color: rgb(17\, 85\, 204)\;" target="_blank">https://<wbr />20degreesmedia.com/</a></div>\n\n<div style="color: rgb(34\, 34\, 34)\; font-family: Arial\, Helvetica\, sans-serif\; font-size: small\;">Plan to bring your laptop with you.</div>\n</div>\n
LOCATION:Evergreen Library Conference Room 5000 CR -73
UID:e.298.87841
SEQUENCE:3
DTSTAMP:20260424T040718Z
URL:https://members.evergreenchamber.org/events/details/quarterly-nonprofit-meeting-october-2022-87841
END:VEVENT

END:VCALENDAR
