BEGIN:VCALENDAR
VERSION:2.0
PRODID:-//ChamberMaster//Event Calendar 2.0//EN
METHOD:PUBLISH
X-PUBLISHED-TTL:P3D
REFRESH-INTERVAL:P3D
CALSCALE:GREGORIAN
BEGIN:VEVENT
DTSTART:20220412T210000Z
DTEND:20220412T223000Z
X-MICROSOFT-CDO-ALLDAYEVENT:FALSE
SUMMARY:Quarterly Nonprofit Meeting - April 2022
DESCRIPTION:Mindy Hanson with AlphaPixel Reach will present on\n\n\n\nMaking Digital Marketing Work for your Nonprofit in 2022.
X-ALT-DESC;FMTTYPE=text/html:<div style="color: rgb(34\, 34\, 34)\; font-family: Arial\, Helvetica\, sans-serif\; font-size: small\;">\n<h5><font size="2"><span style="font-family: arial\, sans-serif\;">Mindy Hanson with AlphaPixel&nbsp\;Reach will present on</span></font></h5>\n</div>\n\n<div style="color: rgb(34\, 34\, 34)\; font-family: Arial\, Helvetica\, sans-serif\; font-size: small\;">\n<div><b>Making Digital Marketing Work for your Nonprofit in 2022.</b></div>\n\n<div>&nbsp\;</div>\n</div>\n
LOCATION:Mountain Resource Center 11030 Kitty Drive Conifer\, CO 80433
UID:e.298.87187
SEQUENCE:3
DTSTAMP:20260424T125841Z
URL:https://members.evergreenchamber.org/events/details/quarterly-nonprofit-meeting-april-2022-87187
END:VEVENT

END:VCALENDAR
