BEGIN:VCALENDAR
VERSION:2.0
PRODID:-//ChamberMaster//Event Calendar 2.0//EN
METHOD:PUBLISH
X-PUBLISHED-TTL:P3D
REFRESH-INTERVAL:P3D
CALSCALE:GREGORIAN
BEGIN:VEVENT
DTSTART:20251114T190000Z
DTEND:20251114T203000Z
X-MICROSOFT-CDO-ALLDAYEVENT:FALSE
SUMMARY:Preguntar\, Persuadir\, Referir (QPR)
DESCRIPTION:Sabr as qu  hacer si alguien que conoces est  pensando en el suicidio?\n\nMuchas personas no reconocen las se ales de advertencia o no saben c mo actuar en una crisis. Colorado se encuentra entre los diez estados con las tasas de suicidio m s altas del pa s\, y tu apoyo puede marcar la diferencia.\n\nConvi rtete en un apoyo vital para quienes te rodean.\n\nEl entrenamiento QPR (Preguntar\, Persuadir\, Referir) te ense a habilidades pr cticas y efectivas para identificar se ales de riesgo y brindar ayuda de manera segura. Es una herramienta sencilla\, pero poderosa\, para salvar vidas.\n\nAcomp  anos en esta clase en espa ol y aprende c mo ofrecer apoyo cuando m s se necesita.\n\n Preguntas? Escr benos a: suicideprevention@jcmh.org\n\nPreguntar\, Persuadir\, Referir (QPR) Boletos\, Vie\, 14/11/2025 a las 12:00 | Eventbrite
X-ALT-DESC;FMTTYPE=text/html:<p><strong>&iquest\;Sabr&iacute\;as qu&eacute\; hacer si alguien que conoces est&aacute\; pensando en el suicidio?</strong><br />\nMuchas personas no reconocen las se&ntilde\;ales de advertencia o no saben c&oacute\;mo actuar en una crisis. Colorado se encuentra entre los diez estados con las tasas de suicidio m&aacute\;s altas del pa&iacute\;s\, y tu apoyo puede marcar la diferencia.</p>\n\n<p><strong>Convi&eacute\;rtete en un apoyo vital para quienes te rodean.</strong><br />\nEl entrenamiento&nbsp\;<strong>QPR (Preguntar\, Persuadir\, Referir)</strong>&nbsp\;te ense&ntilde\;a habilidades pr&aacute\;cticas y efectivas para identificar se&ntilde\;ales de riesgo y brindar ayuda de manera segura. Es una herramienta sencilla\, pero poderosa\, para salvar vidas.</p>\n\n<p>Acomp&aacute\;&ntilde\;anos en esta clase&nbsp\;<strong>en espa&ntilde\;ol</strong>&nbsp\;y aprende c&oacute\;mo ofrecer apoyo cuando m&aacute\;s se necesita.</p>\n\n<p><strong>&iquest\;Preguntas? Escr&iacute\;benos a:</strong>&nbsp\;<a href="https://www.eventbrite.com/e/preguntar-persuadir-referir-qpr-tickets-1831403961549?aff=oddtdtcreator" rel="nofollow noopener noreferrer" style="color: rgb(54\, 89\, 227)\; background-color: transparent\; box-sizing: border-box\;" target="_blank" title="">suicideprevention@jcmh.org</a></p>\n\n<p><a href="https://www.eventbrite.com/e/preguntar-persuadir-referir-qpr-tickets-1831403961549?aff=oddtdtcreator">Preguntar\, Persuadir\, Referir (QPR) Boletos\, Vie\, 14/11/2025 a las 12:00 | Eventbrite</a></p>\n
LOCATION:En Linea
UID:e.298.103965
SEQUENCE:3
DTSTAMP:20260419T224757Z
URL:https://members.evergreenchamber.org/events/details/preguntar-persuadir-referir-qpr-103965
END:VEVENT

END:VCALENDAR
