BEGIN:VCALENDAR
VERSION:2.0
PRODID:-//ChamberMaster//Event Calendar 2.0//EN
METHOD:PUBLISH
X-PUBLISHED-TTL:P3D
REFRESH-INTERVAL:P3D
CALSCALE:GREGORIAN
BEGIN:VEVENT
DTSTART:20211105T220000Z
DTEND:20211106T020000Z
X-MICROSOFT-CDO-ALLDAYEVENT:FALSE
SUMMARY:Pottery Studio Open House and Sale
DESCRIPTION:Artist Judi Nafziger is closing her pottery studio after 45 successful years. She invites you to come and browse through her work\, finding something for that special someone! Judi wishes to thank all who have supported her and her work over the years. Sale dates are: Friday\, November 5\, from 4 PM to 8 PM Saturday\, November 6\, from 9 AM to 5 PM Sunday\, November 7\, from 2 PM to 4PM
X-ALT-DESC;FMTTYPE=text/html:Artist Judi Nafziger is closing her pottery studio after 45 successful years. She invites you to come and browse through her work\, finding something for that special someone! Judi wishes to thank all who have supported her and her work over the years. Sale dates are: Friday\, November 5\, from 4 PM to 8 PM Saturday\, November 6\, from 9 AM to 5 PM Sunday\, November 7\, from 2 PM to 4PM
LOCATION:1960 Old Squaw Pass Road Evergreen CO
UID:e.298.85937
SEQUENCE:3
DTSTAMP:20260424T210314Z
URL:https://members.evergreenchamber.org/events/details/pottery-studio-open-house-and-sale-85937
END:VEVENT

END:VCALENDAR
