BEGIN:VCALENDAR
VERSION:2.0
PRODID:-//ChamberMaster//Event Calendar 2.0//EN
METHOD:PUBLISH
X-PUBLISHED-TTL:P3D
REFRESH-INTERVAL:P3D
CALSCALE:GREGORIAN
BEGIN:VEVENT
DTSTART:20250726T000000Z
DTEND:20250726T020000Z
X-MICROSOFT-CDO-ALLDAYEVENT:FALSE
SUMMARY:Pickle - Plunge & Social Dinking
DESCRIPTION:Pickle Plunge & Social Dinking   July 25th at Evergreen Athletic Club\n\nJoin us Thursday\, July 25th from 6:00pm 8:00pm for a summer happy hour like no other at Evergreen Athletic Club!\n\nWe're bringing together:\n\n? Casual pickleball play\n\n? ThermaChill contrast therapy   sauna\, hot tub\, and cold plunge tubs\n\n? Cold beers and laid-back vibes on the patio\n\nWhether you're here to play\, chill\, or just dink around\, this is the perfect way to beat the heat and unwind with your crew.\n\nSpace is limited to just 25 people\, so reserve your spot early!\n\nRegister Here
X-ALT-DESC;FMTTYPE=text/html:<p><strong>Pickle Plunge &amp\; Social Dinking &ndash\; July 25th at Evergreen Athletic Club</strong></p>\n\n<p>Join us Thursday\, <strong>July 25th from 6:00pm&ndash\;8:00pm</strong> for a summer happy hour like no other at <strong>Evergreen Athletic Club</strong>!</p>\n\n<p>We&rsquo\;re bringing together:<br />\n? Casual pickleball play<br />\n? <strong>ThermaChill contrast therapy</strong> &mdash\; sauna\, hot tub\, and cold plunge tubs<br />\n? Cold <strong>beers</strong> and laid-back vibes on the patio</p>\n\n<p>Whether you&rsquo\;re here to play\, chill\, or just dink around\, this is the perfect way to beat the heat and unwind with your crew.</p>\n\n<p><strong>Space is limited to just 25 people</strong>\, so reserve your spot early!<br />\n<a href="https://clients.mindbodyonline.com/classic/ws?studioid=204771&amp\;stype=-110&amp\;sTG=50&amp\;sVT=172&amp\;sView=day&amp\;sLoc=0&amp\;date=07/25/25"><strong>Register Here</strong></a></p>\n
LOCATION:2932 Evergreen Pkwy A\, Evergreen\, CO 80439
UID:e.298.100861
SEQUENCE:3
DTSTAMP:20260420T053239Z
URL:https://members.evergreenchamber.org/events/details/pickle-plunge-social-dinking-100861
END:VEVENT

END:VCALENDAR
