BEGIN:VCALENDAR
VERSION:2.0
PRODID:-//ChamberMaster//Event Calendar 2.0//EN
METHOD:PUBLISH
X-PUBLISHED-TTL:P3D
REFRESH-INTERVAL:P3D
CALSCALE:GREGORIAN
BEGIN:VEVENT
DTSTART:20260423T150000Z
DTEND:20260423T170000Z
X-MICROSOFT-CDO-ALLDAYEVENT:FALSE
SUMMARY:Peak Cowork 4th Anniversary Celebration!
DESCRIPTION:Come celebrate Peak Cowork?s 4th Anniversary with us on Thursday\, April 23 from 9?11 AM!\n\nStop by\, say hello\, enjoy some coffee\, and check out everything we offer the Evergreen community.\n\nBring a friend and come see what coworking is all about!
X-ALT-DESC;FMTTYPE=text/html:<p>Come celebrate <strong>Peak Cowork?s 4th Anniversary</strong> with us on <strong>Thursday\, April 23 from 9?11 AM</strong>!<br>\nStop by\, say hello\, enjoy some coffee\, and check out everything we offer the Evergreen community.</p>\n\n<p>Bring a friend and come see what coworking is all about!</p>\n
LOCATION:1202 Bergen Parkway\, Suite 100
UID:e.298.106461
SEQUENCE:3
DTSTAMP:20260422T174828Z
URL:https://members.evergreenchamber.org/events/details/peak-cowork-4th-anniversary-celebration-106461
END:VEVENT

END:VCALENDAR
