BEGIN:VCALENDAR
VERSION:2.0
PRODID:-//ChamberMaster//Event Calendar 2.0//EN
METHOD:PUBLISH
X-PUBLISHED-TTL:P3D
REFRESH-INTERVAL:P3D
CALSCALE:GREGORIAN
BEGIN:VEVENT
DTSTART:20251109T000000Z
DTEND:20251109T020000Z
X-MICROSOFT-CDO-ALLDAYEVENT:FALSE
SUMMARY:Pat Travis & The Barley Brothers Playing Live on Saturday!!
DESCRIPTION:Join us this Saturday for FREE live music by Local Trio Pat Travis & The Barley Brothers 5pm to 7pm!! Start enjoying your weekend right with great live local music\, craft house made food\, craft Colorado beer\, craft cocktails\, mocktails and more!!
X-ALT-DESC;FMTTYPE=text/html:Join us this Saturday for FREE live music by Local Trio Pat Travis &amp\; The Barley Brothers 5pm to 7pm!! Start enjoying your weekend right with great live local music\, craft house made food\, craft Colorado beer\, craft cocktails\, mocktails and more!!&nbsp\;
LOCATION:Revival Brews 27845 Hwy 74 Downtown Evergreen
UID:e.298.99656
SEQUENCE:3
DTSTAMP:20260420T002523Z
URL:https://members.evergreenchamber.org/events/details/pat-travis-the-barley-brothers-playing-live-friday-night-99656
END:VEVENT

END:VCALENDAR
