BEGIN:VCALENDAR
VERSION:2.0
PRODID:-//ChamberMaster//Event Calendar 2.0//EN
METHOD:PUBLISH
X-PUBLISHED-TTL:P3D
REFRESH-INTERVAL:P3D
CALSCALE:GREGORIAN
BEGIN:VEVENT
DTSTART:20251119T020000Z
DTEND:20251119T040000Z
X-MICROSOFT-CDO-ALLDAYEVENT:FALSE
SUMMARY:Pasta Making Class
DESCRIPTION:Enjoy a fun\, social atmosphere perfect for all skill levels. "Roll\, cut\, and taste your way to pasta perfection! Join us for our "Make Fresh Pasta at Home" class. Perfect for beginners who want to bring authentic Italian flavors to their kitchen. You'll master silky fettuccine and pillowy potato gnocchi\, learn the secrets to perfect dough\, and enjoy your creations with a classic marinara sauce. No fancy tools required just your hands\, some flour\, and a love for good food!
X-ALT-DESC;FMTTYPE=text/html:<em><em>Enjoy a fun\, social atmosphere perfect for all skill levels.</em></em><em><em>&nbsp\;&quot\;Roll\, cut\, and taste your way to pasta perfection! Join us for our &ldquo\;</em></em><span style="background-color:rgba(255\, 255\, 255\, 0.5)\; color:rgb(85\, 85\, 85)\; font-family:raleway\,sans-serif\; font-size:20px"><em>Make Fresh Pasta at Home&rdquo\;&nbsp\;</em></span><em><em>class. Perfect for beginners who want to bring authentic Italian flavors to their kitchen. You&rsquo\;ll master silky fettuccine and pillowy potato gnocchi\, learn the secrets to perfect dough\, and enjoy your creations with a classic marinara sauce. No fancy tools required&mdash\;just your hands\, some flour\, and a love for good food!</em></em>
LOCATION:Ascent Church (upper Level) 29823 Troutdale Scenic Drive Evergreen\, CO 80439
UID:e.298.104017
SEQUENCE:3
DTSTAMP:20260419T224550Z
URL:https://members.evergreenchamber.org/events/details/pasta-making-class-11-18-2025-104017
END:VEVENT

END:VCALENDAR
