BEGIN:VCALENDAR
VERSION:2.0
PRODID:-//ChamberMaster//Event Calendar 2.0//EN
METHOD:PUBLISH
X-PUBLISHED-TTL:P3D
REFRESH-INTERVAL:P3D
CALSCALE:GREGORIAN
BEGIN:VEVENT
DTSTART:20250702T000000Z
DTEND:20250702T010000Z
X-MICROSOFT-CDO-ALLDAYEVENT:FALSE
SUMMARY:Outdoor Yoga at Hiwan Heritage Park
DESCRIPTION:Join us among the pines for an all levels\, pay what you can outdoor yoga class! Suggested donation of $20.
X-ALT-DESC;FMTTYPE=text/html:Join us among the pines for an all levels\, pay what you can outdoor yoga class! Suggested donation of $20. 
LOCATION:Hiwan Heritage Park 28473 Meadow Dr Evergreen\, CO 80439
UID:e.298.100123
SEQUENCE:3
DTSTAMP:20260420T054814Z
URL:https://members.evergreenchamber.org/events/details/outdoor-yoga-at-hiwan-heritage-park-07-01-2025-100123
END:VEVENT

END:VCALENDAR
