BEGIN:VCALENDAR
VERSION:2.0
PRODID:-//ChamberMaster//Event Calendar 2.0//EN
METHOD:PUBLISH
X-PUBLISHED-TTL:P3D
REFRESH-INTERVAL:P3D
CALSCALE:GREGORIAN
BEGIN:VEVENT
DTSTART:20231209T200000Z
DTEND:20231209T210000Z
X-MICROSOFT-CDO-ALLDAYEVENT:FALSE
SUMMARY:Nutrition Education: DIY Body Care for Everybody
DESCRIPTION:FREE! Class\n\n\n\n2nd class offered on Saturday December 9 1-2pm\n\n\n\nYou eat organic and read labels to avoid chemicals\, but what about your body care products? The average American uses 9 products a day for a total of 126 different ingredients - many of which are hormone disruptors\, neurotoxins and skin irritants. But not ours! Scrub goodbye to skin care chemicals and learn fun\, easy do-it-yourself body care using oils\, foods and everyday ingredients at home.\n\n\n\nReceive a $5 off coupon when you attend this class
X-ALT-DESC;FMTTYPE=text/html:FREE! Class<br />\n<br />\n2nd class offered on Saturday December 9 1-2pm<br />\n<br />\nYou eat organic and read labels to avoid chemicals\, but what about your body care products? The average American uses 9 products a day for a total of 126 different ingredients - many of which are hormone disruptors\, neurotoxins and skin irritants. But not ours! Scrub goodbye to skin care chemicals and learn fun\, easy do-it-yourself body care using oils\, foods and everyday ingredients at home.<br />\n<br />\nReceive a $5 off coupon when you attend this class
LOCATION:Demo Kitchen Natural Grocers Evergreen 1291 Bergen Pkwy Evergreen\, CO 80439 303-679-9800
UID:e.298.90937
SEQUENCE:3
DTSTAMP:20260423T080125Z
URL:https://members.evergreenchamber.org/events/details/nutrition-education-diy-body-care-for-everybody-90937
END:VEVENT

END:VCALENDAR
