BEGIN:VCALENDAR
VERSION:2.0
PRODID:-//ChamberMaster//Event Calendar 2.0//EN
METHOD:PUBLISH
X-PUBLISHED-TTL:P3D
REFRESH-INTERVAL:P3D
CALSCALE:GREGORIAN
BEGIN:VEVENT
DTSTART;VALUE=DATE:20251231
DTEND;VALUE=DATE:20260101
TRANSP:TRANSPARENT
X-MICROSOFT-CDO-ALLDAYEVENT:TRUE
SUMMARY:New Years Eve Balloon Drop
DESCRIPTION:Come welcome in the New Year in joyful style! Reserve a one-hour tubing session\, a day lift ski ticket\, or a season pass to participate. We'll gather everyone in the Lodge for a special early New Year's celebration after the final tubing hour. At 8:15 PM\, get ready for a balloon drop\, upbeat music\, and a dance party to welcome the New Year. There will be festive food and beverages available for purchase. Come ready to celebrate\, laugh\, and make the last evening of the year sparkle!
X-ALT-DESC;FMTTYPE=text/html:<span style="color:rgb(0\, 0\, 0)\; font-family:aptos\,aptos_embeddedfont\,aptos_msfontservice\,sans-serif\; font-size:12pt">Come welcome in the New Year in joyful style! Reserve a one-hour tubing session\, a day lift ski ticket\, or a season pass to&nbsp\;participate.&nbsp\;We&rsquo\;ll&nbsp\;gather everyone in the Lodge for a special early New Year&rsquo\;s celebration after the final tubing hour. At 8:15 PM\, get ready for a&nbsp\;balloon&nbsp\;drop</span><span style="color:rgb(0\, 0\, 0)\; font-family:aptos\,aptos_embeddedfont\,aptos_msfontservice\,sans-serif\; font-size:12pt">\, upbeat music\, and a dance party to welcome the New Year. There will be festive food and&nbsp\;beverages&nbsp\;available for purchase.&nbsp\;Come ready to celebrate\, laugh\, and make the last evening of the year sparkle!</span><span style="color:rgb(0\, 0\, 0)\; font-family:aptos\,aptos_embeddedfont\,aptos_msfontservice\,sans-serif\; font-size:12pt">&nbsp\;</span>
LOCATION:Echo Mountain 19285 CO-103 Idaho Springs\, CO 80452
UID:e.298.105426
SEQUENCE:3
DTSTAMP:20260419T210824Z
URL:https://members.evergreenchamber.org/events/details/new-years-eve-balloon-drop-105426
END:VEVENT

END:VCALENDAR
