BEGIN:VCALENDAR
VERSION:2.0
PRODID:-//ChamberMaster//Event Calendar 2.0//EN
METHOD:PUBLISH
X-PUBLISHED-TTL:P3D
REFRESH-INTERVAL:P3D
CALSCALE:GREGORIAN
BEGIN:VEVENT
DTSTART:20210806T230000Z
DTEND:20210807T020000Z
X-MICROSOFT-CDO-ALLDAYEVENT:FALSE
SUMMARY:Neil Z Live at Wild Game Evergreen
DESCRIPTION:Neil Z - the solo band! - brings you favorites from the 70s\, 80s\, 90s through to today. No cover.
X-ALT-DESC;FMTTYPE=text/html:Neil Z - the solo band! - brings you favorites from the 70s\, 80s\, 90s through to today. No cover.
LOCATION:1204 BERGEN PARKWAY EVERGREEN\, CO 80439 (720) 630-8888
UID:e.298.84365
SEQUENCE:3
DTSTAMP:20260425T013138Z
URL:https://members.evergreenchamber.org/events/details/neil-z-live-at-wild-game-evergreen-84365
END:VEVENT

END:VCALENDAR
