BEGIN:VCALENDAR
VERSION:2.0
PRODID:-//ChamberMaster//Event Calendar 2.0//EN
METHOD:PUBLISH
X-PUBLISHED-TTL:P3D
REFRESH-INTERVAL:P3D
CALSCALE:GREGORIAN
BEGIN:VEVENT
DTSTART:20240302T170000Z
DTEND:20240302T190000Z
X-MICROSOFT-CDO-ALLDAYEVENT:FALSE
SUMMARY:Mushies Cup Registration
DESCRIPTION:Mushies Cup is back.  Teams of 2 or 4 will participate in pulling each other around on floats on the ice.  This hilarious event is family friendly and we are thrilled to host it again.
X-ALT-DESC;FMTTYPE=text/html:Mushies Cup is back.&nbsp\; Teams of 2 or 4 will participate in pulling each other around on floats on the ice.&nbsp\; This hilarious event is family friendly and we are thrilled to host it again.&nbsp\;&nbsp\;
LOCATION:Check-in at 9:30 in the South End of the Lake House Parking lot. We will start the heats at 10am. Wear appropriate clothing and street footwear.
UID:e.298.91460
SEQUENCE:3
DTSTAMP:20260423T030522Z
URL:https://members.evergreenchamber.org/events/details/mushies-cup-registration-91460
END:VEVENT

END:VCALENDAR
