BEGIN:VCALENDAR
VERSION:2.0
PRODID:-//ChamberMaster//Event Calendar 2.0//EN
METHOD:PUBLISH
X-PUBLISHED-TTL:P3D
REFRESH-INTERVAL:P3D
CALSCALE:GREGORIAN
BEGIN:VEVENT
DTSTART:20251009T230000Z
DTEND:20251010T010000Z
X-MICROSOFT-CDO-ALLDAYEVENT:FALSE
SUMMARY:Mountain Mixer - PandoraJohn Properties - Madison & Company
DESCRIPTION:Mountain Mixer - PandoraJohn Properties - Madison & Company
X-ALT-DESC;FMTTYPE=text/html:Mountain Mixer - PandoraJohn Properties - Madison &amp\; Company
LOCATION:1193 Bergen Parkway Evergreen\, CO 80439
UID:e.298.99652
SEQUENCE:3
DTSTAMP:20260420T032020Z
URL:https://members.evergreenchamber.org/events/details/mountain-mixer-pandorajohn-properties-madison-company-99652
END:VEVENT

END:VCALENDAR
