BEGIN:VCALENDAR
VERSION:2.0
PRODID:-//ChamberMaster//Event Calendar 2.0//EN
METHOD:PUBLISH
X-PUBLISHED-TTL:P3D
REFRESH-INTERVAL:P3D
CALSCALE:GREGORIAN
BEGIN:VEVENT
DTSTART:20250612T230000Z
DTEND:20250613T010000Z
X-MICROSOFT-CDO-ALLDAYEVENT:FALSE
SUMMARY:Mountain Mixer @5....Elevate Your Networking - Wild Rabbit Boutique
DESCRIPTION:Mountain Mixer @5....Elevate Your Networking \n\nWild Rabbit Boutique
X-ALT-DESC;FMTTYPE=text/html:Mountain Mixer @5....Elevate Your Networking&nbsp\;<br />\nWild Rabbit Boutique
LOCATION:Wild Rabbit Boutique 28265 CO-74 Evergreen\, CO 80439
UID:e.298.95314
SEQUENCE:3
DTSTAMP:20260420T063528Z
URL:https://members.evergreenchamber.org/events/details/mountain-mixer-5-elevate-your-networking-wild-rabbit-boutique-95314
END:VEVENT

END:VCALENDAR
