BEGIN:VCALENDAR
VERSION:2.0
PRODID:-//ChamberMaster//Event Calendar 2.0//EN
METHOD:PUBLISH
X-PUBLISHED-TTL:P3D
REFRESH-INTERVAL:P3D
CALSCALE:GREGORIAN
BEGIN:VEVENT
DTSTART:20251212T000000Z
DTEND:20251212T020000Z
X-MICROSOFT-CDO-ALLDAYEVENT:FALSE
SUMMARY:Mountain Mixer @5....Elevate Your Networking - Ugly Sweater
DESCRIPTION:Cozy up and join us for a Mountain Mixer Ugly Sweater Version at the Stonehouse.\n\nCelebrate the season mountain-style   warm drinks\, good company\, and a contest for the most delightfully hideous holiday sweater.\n\n\n\nWe are collecting items for EChO Food Pantry. This week's needed items are:\n\nomato Sauce/Paste\n\nCanned Pineapple\n\nAdult Diapers - size Large\n\nBaby Diapers - sizes 4 and up
X-ALT-DESC;FMTTYPE=text/html:<br />\nCozy up and join us for a <strong data-end="846" data-start="808">Mountain Mixer Ugly Sweater Version&nbsp\;</strong>at the Stonehouse.<br data-end="866" data-start="863" />\nCelebrate the season mountain-style &mdash\; warm drinks\, good company\, and a contest for the most delightfully hideous holiday sweater.<br />\n<br />\nWe are collecting items for EChO Food Pantry. This week&#39\;s needed items are:<br />\nomato Sauce/Paste<br />\nCanned Pineapple<br />\nAdult Diapers - size Large<br />\nBaby Diapers - sizes 4 and up<br />\n&nbsp\;
LOCATION:Evergreen Chamber of Commerce @ the Stonehouse 1524 Belford Ct Evergreen\, CO
UID:e.298.103982
SEQUENCE:3
DTSTAMP:20260419T210825Z
URL:https://members.evergreenchamber.org/events/details/mountain-mixer-5-elevate-your-networking-ugly-sweater-103982
END:VEVENT

END:VCALENDAR
