BEGIN:VCALENDAR
VERSION:2.0
PRODID:-//ChamberMaster//Event Calendar 2.0//EN
METHOD:PUBLISH
X-PUBLISHED-TTL:P3D
REFRESH-INTERVAL:P3D
CALSCALE:GREGORIAN
BEGIN:VEVENT
DTSTART:20251114T000000Z
DTEND:20251114T020000Z
X-MICROSOFT-CDO-ALLDAYEVENT:FALSE
SUMMARY:Mountain Mixer@5...Elevate Your Networking - Chillax Om Natural Health & Longevity Center
DESCRIPTION:Mountain Mixer - Chillax Om Natural Health & Longevity Center\n\n\n\nWe are collecting items for EChO - please bring anything you have! Please check their website weekly for their top needs at http://evergreenchristianoutreach.org. This week needs are Dried Beans/Rice\, Chili\, Refried Beans\, Baby Food/Formula and Toothpaste.
X-ALT-DESC;FMTTYPE=text/html:Mountain Mixer -&nbsp\;<span style="color: rgb(34\, 34\, 34)\; font-family: Arial\, Helvetica\, sans-serif\; font-size: small\;">Chillax Om Natural Health &amp\; Longevity Center</span><br />\n<br />\nWe are collecting items for EChO - please bring anything you have! Please check their website weekly for their top needs at&nbsp\;http://evergreenchristianoutreach.org.&nbsp\;<strong><span style="font-size: 14px\;"><span style="color: rgb(85\, 85\, 85)\; font-family: Raleway\, sans-serif\; background-color: rgba(255\, 255\, 255\, 0.5)\;">This week needs are Dried Beans/Rice\, Chili\, Refried Beans\, Baby Food/Formula and Toothpaste.</span></span></strong>
LOCATION:Chillax Om Natural Health & Longevity Center 4600 Plettner Ln\, 1st Floor 1C Evergreen\, CO 80439 ***Please use the parking lot across Hwy 73 from Cactus Jacks. It is the Aspen's Consignment and Go Paint Parking lot. Do not scan the QR code for parking. Once inside Chillax\, there will be a QR code to scan for free parking. Have your license plate ready.
UID:e.298.99653
SEQUENCE:3
DTSTAMP:20260419T224633Z
URL:https://members.evergreenchamber.org/events/details/mountain-mixer-5-elevate-your-networking-chillax-om-natural-health-longevity-center-99653
END:VEVENT

END:VCALENDAR
