BEGIN:VCALENDAR
VERSION:2.0
PRODID:-//ChamberMaster//Event Calendar 2.0//EN
METHOD:PUBLISH
X-PUBLISHED-TTL:P3D
REFRESH-INTERVAL:P3D
CALSCALE:GREGORIAN
BEGIN:VEVENT
DTSTART:20251128T170000Z
DTEND:20251201T000000Z
X-MICROSOFT-CDO-ALLDAYEVENT:FALSE
SUMMARY:Mountain Home's Black Friday Weekend Sale
DESCRIPTION:Mountain Home's Black Friday Weekend Sale\n\nDate: Friday\, Nov. 28th - Sunday\, Nov. 30th\n\nTime: 10:00 AM - 5:00 PM\n\nStop by Mountain Home for these amazing Black Friday deals - ALL WEEKEND LONG!\n\nOur Black Friday sales include:\n\n\n	\n	15% OFF your purchase\n	\n	\n	40% OFF Fall Decor\n	\n	\n	40% OFF mh2\n	\n\n\n(excludes some original art\, no stacking discounts)\n\nWhether you're hunting for a statement piece of furniture\, festive home decor\, or a gift for someone special - now's the time to score big savings.
X-ALT-DESC;FMTTYPE=text/html:<p><span style="background-color:transparent\; color:rgb(0\, 0\, 0)\; font-family:arial\,sans-serif\; font-size:11pt">Mountain Home&#39\;s Black Friday Weekend Sale<br />\nDate: Friday\, Nov. 28th - Sunday\, Nov. 30th</span></p>\n\n<p><span style="background-color:transparent\; color:rgb(0\, 0\, 0)\; font-family:arial\,sans-serif\; font-size:11pt">Time: 10:00 AM - 5:00 PM</span></p>\n\n<p><span style="background-color:transparent\; color:rgb(0\, 0\, 0)\; font-family:arial\,sans-serif\; font-size:11pt">Stop by Mountain Home for these amazing Black Friday deals - ALL WEEKEND LONG!</span></p>\n\n<p><span style="background-color:transparent\; color:rgb(0\, 0\, 0)\; font-family:arial\,sans-serif\; font-size:11pt">Our Black Friday sales include:</span></p>\n\n<ul>\n	<li>\n	<p><span style="background-color:transparent\; font-size:11pt">15% OFF your purchase</span></p>\n	</li>\n	<li>\n	<p><span style="background-color:transparent\; font-size:11pt">40% OFF Fall Decor</span></p>\n	</li>\n	<li>\n	<p><span style="background-color:transparent\; font-size:11pt">40% OFF mh2</span></p>\n	</li>\n</ul>\n\n<p><span style="background-color:transparent\; color:rgb(0\, 0\, 0)\; font-family:arial\,sans-serif\; font-size:11pt">(excludes some original art\, no stacking discounts)</span></p>\n\n<p><span style="background-color:transparent\; color:rgb(0\, 0\, 0)\; font-family:arial\,sans-serif\; font-size:11pt">Whether you&rsquo\;re hunting for a statement piece of furniture\, festive home decor\, or a gift for someone special - now&rsquo\;s the time to score big savings.</span></p>\n\n<div>&nbsp\;</div>\n
LOCATION:Mountain Home 27965 Meadow Drive Evergreen CO 80439
UID:e.298.104047
SEQUENCE:3
DTSTAMP:20260419T224908Z
URL:https://members.evergreenchamber.org/events/details/mountain-home-s-black-friday-weekend-sale-104047
END:VEVENT

END:VCALENDAR
