BEGIN:VCALENDAR
VERSION:2.0
PRODID:-//ChamberMaster//Event Calendar 2.0//EN
METHOD:PUBLISH
X-PUBLISHED-TTL:P3D
REFRESH-INTERVAL:P3D
CALSCALE:GREGORIAN
BEGIN:VEVENT
DTSTART:20210821T150000Z
DTEND:20210821T180000Z
X-MICROSOFT-CDO-ALLDAYEVENT:FALSE
SUMMARY:Mountain Community Barefoot Mile
DESCRIPTION:Walk a mile in solidarity with impoverished and trafficked children to raise funds for JOY International\, a global non-profit organization based in Conifer\, Colorado. JOY International is dedicated to the rescue\, restoration and reintegration of children\, teens and young women affected by trafficking and the prevention of child trafficking worldwide. \n\nJoin the fight for freedom by registering to walk today! Registering is free and opens the door for you to raise funds for the event individually or as a team.\n\nYou can walk virtually at any time and anywhere\, or walk virtually or in-person at the event on August 21\, 2021.\n\nThis is a fun family event!  Feel free to bring a picnic\, camping chairs\, or a picnic blanket to share with your family.
X-ALT-DESC;FMTTYPE=text/html:<p style="text-align:justify">Walk a mile in solidarity with impoverished and trafficked children to raise funds for JOY International\, a global non-profit organization based in Conifer\, Colorado. JOY International is dedicated to the rescue\, restoration and reintegration of children\, teens and young women affected by trafficking and the prevention of child trafficking worldwide.&nbsp\;</p>\n\n<p style="text-align:justify">Join the fight for freedom by registering to walk today! Registering is free and opens the door for you to raise funds for the event&nbsp\;individually or as a team.</p>\n\n<p style="text-align:justify">You can walk virtually at any time and anywhere\, or walk virtually or in-person at the event on August 21\, 2021.</p>\n\n<p style="text-align:justify">This is a fun family event!&nbsp\; Feel free to bring a picnic\, camping chairs\, or a picnic blanket to share with your family.</p>\n
LOCATION:Marshdale Park 6979 S Ocelot Trail\, Evergreen\, CO 80439
UID:e.298.83241
SEQUENCE:3
DTSTAMP:20260425T012951Z
URL:https://members.evergreenchamber.org/events/details/mountain-community-barefoot-mile-83241
END:VEVENT

END:VCALENDAR
