BEGIN:VCALENDAR
VERSION:2.0
PRODID:-//ChamberMaster//Event Calendar 2.0//EN
METHOD:PUBLISH
X-PUBLISHED-TTL:P3D
REFRESH-INTERVAL:P3D
CALSCALE:GREGORIAN
BEGIN:VEVENT
DTSTART:20221108T230000Z
DTEND:20221109T030000Z
X-MICROSOFT-CDO-ALLDAYEVENT:FALSE
SUMMARY:Mount Evans Home Health Care & Hospice SERVES Troutdale Tavern
DESCRIPTION:Join Mount Evans Home Health Care & Hospice for a fun night of fundraising! They will act as the servers and bussers for the night.\n\n\n\nMake your reservation in advance HERE
X-ALT-DESC;FMTTYPE=text/html:<span style="color: rgb(51\, 51\, 51)\; font-family: sans-serif\, Arial\, Verdana\, &quot\;Trebuchet MS&quot\;\; font-size: 13px\; background-color: rgb(255\, 255\, 255)\;">&nbsp\;Join Mount Evans Home Health Care &amp\; Hospice for a fun night of fundraising! They will act as the servers and bussers for the night.</span><br />\n<br style="color: rgb(51\, 51\, 51)\; font-family: sans-serif\, Arial\, Verdana\, &quot\;Trebuchet MS&quot\;\; font-size: 13px\;" />\nMake your reservation in advance <a href="https://www.signupgenius.com/go/10C0D44ADAB2CA6FBCF8-anight">HERE</a>
LOCATION:Troutdale Tavern 30790 Stagecoach Blvd\, Unit 101 Evergreen\, CO
UID:e.298.88326
SEQUENCE:3
DTSTAMP:20260424T023439Z
URL:https://members.evergreenchamber.org/events/details/mount-evans-home-health-care-hospice-serves-troutdale-tavern-88326
END:VEVENT

END:VCALENDAR
