BEGIN:VCALENDAR
VERSION:2.0
PRODID:-//ChamberMaster//Event Calendar 2.0//EN
METHOD:PUBLISH
X-PUBLISHED-TTL:P3D
REFRESH-INTERVAL:P3D
CALSCALE:GREGORIAN
BEGIN:VEVENT
DTSTART:20260503T160000Z
DTEND:20260503T200000Z
X-MICROSOFT-CDO-ALLDAYEVENT:FALSE
SUMMARY:Mother Lovin' Block Party
DESCRIPTION:Celebrate MOMS with the West end of town. Evergreen Gallery\, The Cow Eatery\, Kikis\, Sweetwater Boutique\, & Wild Rabbit Boutique are teaming up for a fun event! Enjoy MOMosas\, discounts\, pop up artists\, raffles\, and more.
X-ALT-DESC;FMTTYPE=text/html:Celebrate MOMS with the West end of town. Evergreen Gallery\, The Cow Eatery\, Kikis\, Sweetwater Boutique\, &amp\; Wild Rabbit Boutique are teaming up for a fun event! Enjoy MOMosas\, discounts\, pop up artists\, raffles\, and more.
LOCATION:Downtown Evergreen - West End The Cow Eatery Evergreen Gallery Kiki's Health Cafe Sweetwater Boutique Wild Rabbit Boutique
UID:e.298.106462
SEQUENCE:3
DTSTAMP:20260423T104735Z
URL:https://members.evergreenchamber.org/events/details/mother-lovin-block-party-106462
END:VEVENT

END:VCALENDAR
