BEGIN:VCALENDAR
VERSION:2.0
PRODID:-//ChamberMaster//Event Calendar 2.0//EN
METHOD:PUBLISH
X-PUBLISHED-TTL:P3D
REFRESH-INTERVAL:P3D
CALSCALE:GREGORIAN
BEGIN:VEVENT
DTSTART:20220811T230000Z
DTEND:20220812T010000Z
X-MICROSOFT-CDO-ALLDAYEVENT:FALSE
SUMMARY:Monthly Mixer - Corfee & Associates
DESCRIPTION:Please join us for our casual social networking with Bart Corfee & Associates.
X-ALT-DESC;FMTTYPE=text/html:Please join us for our casual social networking with Bart Corfee &amp\; Associates.
LOCATION:Corfee & Associates 29029 Upper Bear Creek Rd\, Suite 107
UID:e.298.87524
SEQUENCE:3
DTSTAMP:20260424T070136Z
URL:https://members.evergreenchamber.org/events/details/monthly-mixer-corfee-associates-87524
END:VEVENT

END:VCALENDAR
