BEGIN:VCALENDAR
VERSION:2.0
PRODID:-//ChamberMaster//Event Calendar 2.0//EN
METHOD:PUBLISH
X-PUBLISHED-TTL:P3D
REFRESH-INTERVAL:P3D
CALSCALE:GREGORIAN
BEGIN:VEVENT
DTSTART:20220330T140000Z
DTEND:20220330T150000Z
X-MICROSOFT-CDO-ALLDAYEVENT:FALSE
SUMMARY:Monthly Mini Mystery Mixer - Morning
DESCRIPTION:Join us for small group Networking.
X-ALT-DESC;FMTTYPE=text/html:<div class="row gz-event-description" itemprop="about" style="box-sizing: border-box\; display: flex\; padding: 20px\; margin: 20px -15px\; background: rgba(255\, 255\, 255\, 0.5)\; border-radius: 10px\; flex-wrap: wrap\; color: rgb(85\, 85\, 85)\; font-family: Raleway\, sans-serif\; font-size: 20px\;">\n<div class="col" style="box-sizing: border-box\; padding: 0px 15px\; margin: 0px\; position: relative\; width: 1280px\; min-height: 1px\; flex-basis: 0px\; flex-grow: 1\; max-width: 100%\;">\n<p style="box-sizing: border-box\; overflow-wrap: break-word\; margin: 0px 0px 1rem\; padding: 0px\;">Join us for small group Networking.</p>\n</div>\n</div>\n
LOCATION:Your mystery location will be revealed the day before the event.
UID:e.298.87140
SEQUENCE:3
DTSTAMP:20260424T144548Z
URL:https://members.evergreenchamber.org/events/details/monthly-mini-mystery-mixer-morning-87140
END:VEVENT

END:VCALENDAR
