BEGIN:VCALENDAR
VERSION:2.0
PRODID:-//ChamberMaster//Event Calendar 2.0//EN
METHOD:PUBLISH
X-PUBLISHED-TTL:P3D
REFRESH-INTERVAL:P3D
CALSCALE:GREGORIAN
BEGIN:VEVENT
DTSTART:20210825T140000Z
DTEND:20210825T150000Z
X-MICROSOFT-CDO-ALLDAYEVENT:FALSE
SUMMARY:Monthly Mini Mystery Mixer - Morning
DESCRIPTION:Mini Networking Opportunity at a Mystery Location!!\n\n\n\nYour Evergreen Area Chamber of Commerce is offering a mysterious networking opportunity!\n\n\n\nOn the Last Wednesday of the Month\, you choose a Morning\,or cocktail hour mixer.  The day before the event\, the mystery location will be mailed to you.  The mystery mixers will include up to 8 other business members to mingle with.\n\n\n\nNext Month\, you will be paired with new contacts.\n\n\n\nVisit EvergreenChamber.org to register | $5 for Members\, $10 for Non-members or a Member Mixer Pass reserves your place!\n\n\n\nIncrease your networking exponentially!
X-ALT-DESC;FMTTYPE=text/html:<strong>Mini Networking Opportunity at a Mystery Location!!</strong><br />\n<br />\nYour Evergreen Area Chamber of Commerce is offering a mysterious networking opportunity!<br />\n<br />\nOn the Last Wednesday of the Month\, you choose a Morning\,or cocktail hour mixer.&nbsp\; The day before the event\, the mystery location will be mailed to you.&nbsp\; The mystery mixers will include up to 8 other business members to mingle with.<br />\n<br />\nNext Month\, you will be paired with new contacts.<br />\n<br />\nVisit EvergreenChamber.org to register | $5 for Members\, $10 for Non-members or a Member Mixer Pass reserves your place!<br />\n<br />\nIncrease your networking exponentially!&nbsp\;
LOCATION:Your mystery location will be revealed the day before the event.
UID:e.298.83789
SEQUENCE:3
DTSTAMP:20260425T013138Z
URL:https://members.evergreenchamber.org/events/details/monthly-mini-mystery-mixer-morning-83789
END:VEVENT

END:VCALENDAR
