BEGIN:VCALENDAR
VERSION:2.0
PRODID:-//ChamberMaster//Event Calendar 2.0//EN
METHOD:PUBLISH
X-PUBLISHED-TTL:P3D
REFRESH-INTERVAL:P3D
CALSCALE:GREGORIAN
BEGIN:VEVENT
DTSTART:20230413T230000Z
DTEND:20230414T010000Z
X-MICROSOFT-CDO-ALLDAYEVENT:FALSE
SUMMARY:Monthly Chamber Mixer - FlowTheory CoWorks & Best Custom Homes
DESCRIPTION:Monthly Chamber Mixer - FlowTheory CoWorks & Best Custom Homes\n\n\n\nFlowTheory CoWorks is Evergreen's first local family-owner space for remote workers\, entrepreneurs and those who just believe that working alone kinda sucks! FlowTheory has fostered an environment that allows members to focus on getting in their best [work] flow.\n\n\n\nBest Custom Homes is a western region\, full-service general contracting company\, we realized the immensity of your dream\, and we want to help achieve it.
X-ALT-DESC;FMTTYPE=text/html:<span style="background:white\;"><span style="color:black\;"><span style="font-family:arial\,sans-serif\;"><span style="font-size:10.0pt\;">M</span></span></span></span><span style="color:black\;"><span style="font-family:arial\,sans-serif\;"><span style="font-size:10.0pt\;">onthly Chamber Mixer -&nbsp\;<strong>FlowTheory CoWorks &amp\; Best Custom Homes</strong></span></span></span><br />\n<br />\n<strong>FlowTheory CoWorks</strong> is Evergreen&rsquo\;s first local family-owner space for remote workers\, entrepreneurs and those who just believe that working alone kinda sucks! FlowTheory has fostered an environment that allows members to focus on getting in their best [work] flow.<br />\n<br />\n<strong>Best Custom Homes</strong> is a western region\, full-service general contracting company\, we realized the immensity of your dream\, and we want to help achieve it.
LOCATION:FlowTheory CoWorks & Best Custom Homes 3540 Evergreen Parkway Evergreen\, CO 80439
UID:e.298.89092
SEQUENCE:3
DTSTAMP:20260423T193534Z
URL:https://members.evergreenchamber.org/events/details/monthly-chamber-mixer-flowtheory-coworks-best-custom-homes-89092
END:VEVENT

END:VCALENDAR
