BEGIN:VCALENDAR
VERSION:2.0
PRODID:-//ChamberMaster//Event Calendar 2.0//EN
METHOD:PUBLISH
X-PUBLISHED-TTL:P3D
REFRESH-INTERVAL:P3D
CALSCALE:GREGORIAN
BEGIN:VEVENT
DTSTART:20231101T133000Z
DTEND:20231101T150000Z
X-MICROSOFT-CDO-ALLDAYEVENT:FALSE
SUMMARY:Monthly Chamber Breakfast - Nonprofit Showcase
DESCRIPTION:Monthly Chamber Breakfast\n\nTopic: Nonprofit Showcase
X-ALT-DESC;FMTTYPE=text/html:Monthly Chamber Breakfast<br />\nTopic: Nonprofit Showcase
LOCATION:Troutdale Tavern 30790 Stagecoach Blvd Evergreen\, CO 80439
UID:e.298.89099
SEQUENCE:3
DTSTAMP:20260423T092719Z
URL:https://members.evergreenchamber.org/events/details/monthly-chamber-breakfast-nonprofit-showcase-89099
END:VEVENT

END:VCALENDAR
