BEGIN:VCALENDAR
VERSION:2.0
PRODID:-//ChamberMaster//Event Calendar 2.0//EN
METHOD:PUBLISH
X-PUBLISHED-TTL:P3D
REFRESH-INTERVAL:P3D
CALSCALE:GREGORIAN
BEGIN:VEVENT
DTSTART:20251203T143000Z
DTEND:20251203T160000Z
X-MICROSOFT-CDO-ALLDAYEVENT:FALSE
SUMMARY:Monthly Chamber Breakfast - Networking in the New Year
DESCRIPTION:Monthly Chamber Breakfast\n\nTopic: Networking in the New Year \n\n\n\nWe are collecting items for EChO - please bring anything you have! Please check their website weekly for their top needs at http://evergreenchristianoutreach.org.
X-ALT-DESC;FMTTYPE=text/html:Monthly Chamber Breakfast<br />\nTopic: <b>Networking in the New Year&nbsp\;</b><br />\n<br />\nWe are collecting items for EChO - please bring anything you have! Please check their website weekly for their top needs at&nbsp\;http://evergreenchristianoutreach.org.
LOCATION:Hiwan Golf Club 30671 Clubhouse Ln Evergreen\, CO 80439
UID:e.298.100899
SEQUENCE:3
DTSTAMP:20260419T211014Z
URL:https://members.evergreenchamber.org/events/details/monthly-chamber-breakfast-networking-in-the-new-year-100899
END:VEVENT

END:VCALENDAR
