BEGIN:VCALENDAR
VERSION:2.0
PRODID:-//ChamberMaster//Event Calendar 2.0//EN
METHOD:PUBLISH
X-PUBLISHED-TTL:P3D
REFRESH-INTERVAL:P3D
CALSCALE:GREGORIAN
BEGIN:VEVENT
DTSTART:20210804T133000Z
DTEND:20210804T150000Z
X-MICROSOFT-CDO-ALLDAYEVENT:FALSE
SUMMARY:Monthly Chamber Breakfast - August 2021
DESCRIPTION:Come join us for the topic: Networking with our Pandemic Newbies
X-ALT-DESC;FMTTYPE=text/html:<span style="font-family: Roboto\, sans-serif\;">Come join us for the topic: Networking with our Pandemic Newbies</span><br />\n<span style="font-size:14px\;"><span style="font-family:arial\;">&nbsp\;</span></span>
LOCATION:El Rancho 29260 US Hwy 40 Evergreen\, CO 80439 (303) 670-2739
UID:e.298.84071
SEQUENCE:3
DTSTAMP:20260425T013033Z
URL:https://members.evergreenchamber.org/events/details/monthly-chamber-breakfast-august-2021-84071
END:VEVENT

END:VCALENDAR
