BEGIN:VCALENDAR
VERSION:2.0
PRODID:-//ChamberMaster//Event Calendar 2.0//EN
METHOD:PUBLISH
X-PUBLISHED-TTL:P3D
REFRESH-INTERVAL:P3D
CALSCALE:GREGORIAN
BEGIN:VEVENT
DTSTART:20250604T133000Z
DTEND:20250604T150000Z
X-MICROSOFT-CDO-ALLDAYEVENT:FALSE
SUMMARY:Monthly Chamber Breakfast
DESCRIPTION:Monthly Chamber Breakfast - Marketing Speed Networking
X-ALT-DESC;FMTTYPE=text/html:Monthly Chamber Breakfast - Marketing Speed Networking
LOCATION:Mount Vernon Canyon Club 24933 Club House Circle Golden\, CO 80401
UID:e.298.99427
SEQUENCE:3
DTSTAMP:20260420T072251Z
URL:https://members.evergreenchamber.org/events/details/monthly-chamber-breakfast-99427
END:VEVENT

END:VCALENDAR
