BEGIN:VCALENDAR
VERSION:2.0
PRODID:-//ChamberMaster//Event Calendar 2.0//EN
METHOD:PUBLISH
X-PUBLISHED-TTL:P3D
REFRESH-INTERVAL:P3D
CALSCALE:GREGORIAN
BEGIN:VEVENT
DTSTART:20221207T143000Z
DTEND:20221207T160000Z
X-MICROSOFT-CDO-ALLDAYEVENT:FALSE
SUMMARY:Monthly Chamber Breakfast
DESCRIPTION:Come join us for the topic: Kris Kringle Mingle & Shop
X-ALT-DESC;FMTTYPE=text/html:<span style="font-family: Roboto\, sans-serif\;">Come join us for the topic: Kris Kringle Mingle &amp\; Shop</span><br />\n<span style="font-size:14px\;"><span style="font-family:arial\;">&nbsp\;</span></span>
LOCATION:Troutdale Tavern 30790 STAGECOACH BLVD UNIT 101 Evergreen\, CO 80439
UID:e.298.84329
SEQUENCE:3
DTSTAMP:20260424T131249Z
URL:https://members.evergreenchamber.org/events/details/monthly-chamber-breakfast-12-07-2022-84329
END:VEVENT

END:VCALENDAR
