BEGIN:VCALENDAR
VERSION:2.0
PRODID:-//ChamberMaster//Event Calendar 2.0//EN
METHOD:PUBLISH
X-PUBLISHED-TTL:P3D
REFRESH-INTERVAL:P3D
CALSCALE:GREGORIAN
BEGIN:VEVENT
DTSTART:20220803T133000Z
DTEND:20220803T150000Z
X-MICROSOFT-CDO-ALLDAYEVENT:FALSE
SUMMARY:Monthly Chamber Breakfast
DESCRIPTION:Come join us for the topic: "Work Smarter not Harder."
X-ALT-DESC;FMTTYPE=text/html:<span style="font-family: Roboto\, sans-serif\;">Come join us for the topic: &quot\;Work Smarter not Harder.&quot\;</span><br />\n<span style="font-size:14px\;"><span style="font-family:arial\;">&nbsp\;</span></span>
LOCATION:Troutdale Tavern 30790 Stagecoach Blvd Evergreen\, CO 80439 (720) 551-3995
UID:e.298.84325
SEQUENCE:3
DTSTAMP:20260424T070319Z
URL:https://members.evergreenchamber.org/events/details/monthly-chamber-breakfast-08-03-2022-84325
END:VEVENT

END:VCALENDAR
