BEGIN:VCALENDAR
VERSION:2.0
PRODID:-//ChamberMaster//Event Calendar 2.0//EN
METHOD:PUBLISH
X-PUBLISHED-TTL:P3D
REFRESH-INTERVAL:P3D
CALSCALE:GREGORIAN
BEGIN:VEVENT
DTSTART:20220302T143000Z
DTEND:20220302T160000Z
X-MICROSOFT-CDO-ALLDAYEVENT:FALSE
SUMMARY:Monthly Chamber Breakfast
DESCRIPTION:Come join us for speakers from the Colorado Secretary of State on the topic of "Cyber Security".
X-ALT-DESC;FMTTYPE=text/html:<span style="font-family: Roboto\, sans-serif\;">Come join us for speakers from the Colorado Secretary of State on the topic of &quot\;Cyber Security&quot\;.</span><br />\n<span style="font-size:14px\;"><span style="font-family:arial\;">&nbsp\;</span></span>
LOCATION:El Rancho 29260 US Hwy 40 Evergreen\, CO 80439 (303) 670-2739
UID:e.298.84320
SEQUENCE:3
DTSTAMP:20260424T143905Z
URL:https://members.evergreenchamber.org/events/details/monthly-chamber-breakfast-03-02-2022-84320
END:VEVENT

END:VCALENDAR
