BEGIN:VCALENDAR
VERSION:2.0
PRODID:-//ChamberMaster//Event Calendar 2.0//EN
METHOD:PUBLISH
X-PUBLISHED-TTL:P3D
REFRESH-INTERVAL:P3D
CALSCALE:GREGORIAN
BEGIN:VEVENT
DTSTART:20211014T230000Z
DTEND:20211015T010000Z
X-MICROSOFT-CDO-ALLDAYEVENT:FALSE
SUMMARY:Monthly "Business Unplugged" Mixer - October 2021
DESCRIPTION:The Monthly "Business Unplugged" Mixer - Please join us for our monthly in person Happy Hour.
X-ALT-DESC;FMTTYPE=text/html:The Monthly "Business Unplugged" Mixer - Please join us for our monthly in person Happy Hour.
LOCATION:Evergreen Auto Brokers 30706 Bryant Drive #204 Evergreen\, CO 80439
UID:e.298.84332
SEQUENCE:3
DTSTAMP:20260420T125702Z
URL:https://members.evergreenchamber.org/events/details/monthly-business-unplugged-mixer-october-2021-84332
END:VEVENT

END:VCALENDAR
