BEGIN:VCALENDAR
VERSION:2.0
PRODID:-//ChamberMaster//Event Calendar 2.0//EN
METHOD:PUBLISH
X-PUBLISHED-TTL:P3D
REFRESH-INTERVAL:P3D
CALSCALE:GREGORIAN
BEGIN:VEVENT
DTSTART:20210708T230000Z
DTEND:20210709T010000Z
X-MICROSOFT-CDO-ALLDAYEVENT:FALSE
SUMMARY:Monthly "Business Unplugged" Mixer - July 2021
DESCRIPTION:The Monthly "Business Unplugged" Mixer - Please join us for our monthly in person Happy Hour.
X-ALT-DESC;FMTTYPE=text/html:The Monthly &quot\;Business Unplugged&quot\; Mixer - Please join us for our monthly in person Happy Hour.
LOCATION:Alpine Rescue 28802 Rainbow Hill Road Evergreen\, CO 80439
UID:e.298.84060
SEQUENCE:3
DTSTAMP:20260425T030043Z
URL:https://members.evergreenchamber.org/events/details/monthly-business-unplugged-mixer-july-2021-84060
END:VEVENT

END:VCALENDAR
