BEGIN:VCALENDAR
VERSION:2.0
PRODID:-//ChamberMaster//Event Calendar 2.0//EN
METHOD:PUBLISH
X-PUBLISHED-TTL:P3D
REFRESH-INTERVAL:P3D
CALSCALE:GREGORIAN
BEGIN:VEVENT
DTSTART:20210817T130000Z
DTEND:20210822T010000Z
X-MICROSOFT-CDO-ALLDAYEVENT:FALSE
SUMMARY:Monarch Casino Resort Spa Job Fair
DESCRIPTION:Fun\, flexible\, full time careers await Coloradans at Monarch Casino Resort Spa's August career fairs!
X-ALT-DESC;FMTTYPE=text/html:Fun\, flexible\, full time careers await Coloradans at Monarch Casino Resort Spa&rsquo\;s August career fairs!
LOCATION:Monarch Casino Resort Spa's Crystal Ballroom 488 Main St\, Black Hawk\, CO 80422
UID:e.298.84368
SEQUENCE:3
DTSTAMP:20260425T013307Z
URL:https://members.evergreenchamber.org/events/details/monarch-casino-resort-spa-job-fair-84368
END:VEVENT

END:VCALENDAR
