BEGIN:VCALENDAR
VERSION:2.0
PRODID:-//ChamberMaster//Event Calendar 2.0//EN
METHOD:PUBLISH
X-PUBLISHED-TTL:P3D
REFRESH-INTERVAL:P3D
CALSCALE:GREGORIAN
BEGIN:VEVENT
DTSTART:20260101T030000Z
DTEND:20260101T060000Z
X-MICROSOFT-CDO-ALLDAYEVENT:FALSE
SUMMARY:Mocha & Mistletoe New Years Eve Movie Party
DESCRIPTION:By popular demand\, Ovation West and Java Groove are offering another screening of Mocha & Mistletoe!  This New Year's Eve Movie party will kick off at 8:00 pm  followed by a champagne reception and Times Square ball drop celebration.\n\nMocha & Mistletoe\, a heartwarming holiday classic-to-be\, filmed in Evergreen last December follows what happens when Cupid's magical mistletoe is accidentally hung in a small town's coffee shop.
X-ALT-DESC;FMTTYPE=text/html:<p>By popular demand\, Ovation West and Java Groove are offering another screening of Mocha &amp\; Mistletoe!&nbsp\; This New Year&#39\;s Eve Movie party will kick off at 8:00 pm&nbsp\; followed by a champagne reception and Times Square ball drop celebration.</p>\n\n<p><em>Mocha &amp\; Mistletoe\,</em>&nbsp\;a heartwarming holiday classic-to-be\, filmed in Evergreen last December follows what happens when Cupid&#39\;s magical mistletoe is accidentally hung in a small town&#39\;s coffee shop.</p>\n
LOCATION:Center Stage\, Evergreen
UID:e.298.105424
SEQUENCE:3
DTSTAMP:20260419T211304Z
URL:https://members.evergreenchamber.org/events/details/mocha-mistletoe-new-years-eve-movie-party-105424
END:VEVENT

END:VCALENDAR
