BEGIN:VCALENDAR
VERSION:2.0
PRODID:-//ChamberMaster//Event Calendar 2.0//EN
METHOD:PUBLISH
X-PUBLISHED-TTL:P3D
REFRESH-INTERVAL:P3D
CALSCALE:GREGORIAN
BEGIN:VEVENT
DTSTART:20211028T000000Z
DTEND:20211028T010000Z
X-MICROSOFT-CDO-ALLDAYEVENT:FALSE
SUMMARY:Messy Church
DESCRIPTION:Messy Church is a new approach to church for children of God of all ages! This casual\, interactive worship service has a brief message\, hands-on activities\, and lots of fellowship. It's great for families with young children as well as the young at heart! God loves you just the way you are! That's our UMC EverKids Sunday School theme this year\, and it's completely true. God loves and values each of us for our unique gifts and personalities. God is always helping us be better and do better\, but you can come to God anytime\, any place...just as you are!
X-ALT-DESC;FMTTYPE=text/html:Messy Church is a new approach to church for children of God of all ages! This casual\, interactive worship service has a brief message\, hands-on activities\, and lots of fellowship. It&#39\;s great for families with young children as well as the young at heart! God loves you just the way you are! That&#39\;s our UMC EverKids Sunday School theme this year\, and it&#39\;s completely true. God loves and values each of us for our unique gifts and personalities. God is always helping us be better and do better\, but you can come to God anytime\, any place...just as you are!
LOCATION:United Methodist Church of Evergreen 3757 Ponderosa Dr Evergreen CO 80439
UID:e.298.85887
SEQUENCE:3
DTSTAMP:20260420T125629Z
URL:https://members.evergreenchamber.org/events/details/messy-church-10-27-2021-85887
END:VEVENT

END:VCALENDAR
